BEGIN:VCALENDAR
VERSION:2.0
PRODID:-//The Peak - ECPv6.15.20//NONSGML v1.0//EN
CALSCALE:GREGORIAN
METHOD:PUBLISH
X-WR-CALNAME:The Peak
X-ORIGINAL-URL:https://the-peak.ca
X-WR-CALDESC:Events for The Peak
REFRESH-INTERVAL;VALUE=DURATION:PT1H
X-Robots-Tag:noindex
X-PUBLISHED-TTL:PT1H
BEGIN:VTIMEZONE
TZID:America/Vancouver
BEGIN:DAYLIGHT
TZOFFSETFROM:-0800
TZOFFSETTO:-0700
TZNAME:PDT
DTSTART:20170312T100000
END:DAYLIGHT
BEGIN:STANDARD
TZOFFSETFROM:-0700
TZOFFSETTO:-0800
TZNAME:PST
DTSTART:20171105T090000
END:STANDARD
BEGIN:DAYLIGHT
TZOFFSETFROM:-0800
TZOFFSETTO:-0700
TZNAME:PDT
DTSTART:20180311T100000
END:DAYLIGHT
BEGIN:STANDARD
TZOFFSETFROM:-0700
TZOFFSETTO:-0800
TZNAME:PST
DTSTART:20181104T090000
END:STANDARD
BEGIN:DAYLIGHT
TZOFFSETFROM:-0800
TZOFFSETTO:-0700
TZNAME:PDT
DTSTART:20190310T100000
END:DAYLIGHT
BEGIN:STANDARD
TZOFFSETFROM:-0700
TZOFFSETTO:-0800
TZNAME:PST
DTSTART:20191103T090000
END:STANDARD
END:VTIMEZONE
BEGIN:VEVENT
DTSTART;TZID=America/Vancouver:20180728T220000
DTEND;TZID=America/Vancouver:20180728T230000
DTSTAMP:20260419T182005
CREATED:20180720T210907Z
LAST-MODIFIED:20180720T210907Z
UID:105608-1532815200-1532818800@the-peak.ca
SUMMARY:Honda Celebration of Light — South Africa
DESCRIPTION:10 p.m. | English Bay and surrounding areas | FREE. \nThe first display of the celebration\, the South African team will be setting off fireworks to this year’s theme: love. Come early so you can get a spot on the grass or beach. Sweden will be on August 1 followed by South Korea on August 4. \nWant an event featured in this calendar? Email arts@the-peak.ca for details.
URL:https://the-peak.ca/event/honda-celebration-of-light-south-africa/
LOCATION:English Bay and surrounding areas
END:VEVENT
BEGIN:VEVENT
DTSTART;TZID=America/Vancouver:20180727T205000
DTEND;TZID=America/Vancouver:20180727T223000
DTSTAMP:20260419T182005
CREATED:20180727T224512Z
LAST-MODIFIED:20180727T224512Z
UID:105766-1532724600-1532730600@the-peak.ca
SUMMARY:Vancouver: Sing-Along Mamma Mia!
DESCRIPTION:8:50 p.m. (come early to ensure spots) | North point of Canada Place | FREE. \nBefore your mind becomes scarred by Mamma Mia! Here We Go Again\, come watch the first movie outdoors for free. Sing-along to the movie’s catchy tunes as you try to figure out who the father is. \nWant an event featured in this calendar? Email arts@the-peak.ca for details.
URL:https://the-peak.ca/event/vancouver-sing-along-mamma-mia/
LOCATION:North point of Canada Place
END:VEVENT
BEGIN:VEVENT
DTSTART;TZID=America/Vancouver:20180727T090000
DTEND;TZID=America/Vancouver:20180727T120000
DTSTAMP:20260419T182005
CREATED:20180720T210231Z
LAST-MODIFIED:20180720T210231Z
UID:105605-1532682000-1532692800@the-peak.ca
SUMMARY:Cemetery Preservation and Clean Up
DESCRIPTION:9 a.m.–12 p.m. | Maple Ridge Cemetery | FREE. \nNo\, you will not be embalming and cleaning bodies. This event focuses on cleaning and preserving headstones\, as well as the surrounding grass. The organizers encourage you to bring your own brushes and gloves. \nWant an event featured in this calendar? Email arts@the-peak.ca for details.
URL:https://the-peak.ca/event/cemetery-preservation-and-clean-up/
LOCATION:Maple Ridge Cemetery
END:VEVENT
BEGIN:VEVENT
DTSTART;TZID=America/Vancouver:20180726T170000
DTEND;TZID=America/Vancouver:20180726T210000
DTSTAMP:20260419T182005
CREATED:20180720T205600Z
LAST-MODIFIED:20180720T205600Z
UID:105602-1532624400-1532638800@the-peak.ca
SUMMARY:Spotlight The Art of Photography
DESCRIPTION:5–9 p.m. | Waterview special event space | $45–55 (for advance tickets). \nIf you need professionally taken photos of yourself\, this event provides just that. According to the website\, the photos are valued at $250–350\, so you’re getting a pretty good discount. There will also be food trucks on site. \nWant an event featured in this calendar? Email arts@the-peak.ca for details.
URL:https://the-peak.ca/event/spotlight-the-art-of-photography/
LOCATION:Waterview special event space
END:VEVENT
BEGIN:VEVENT
DTSTART;TZID=America/Vancouver:20180725T170000
DTEND;TZID=America/Vancouver:20180725T180000
DTSTAMP:20260419T182005
CREATED:20180720T205231Z
LAST-MODIFIED:20180720T205343Z
UID:105599-1532538000-1532541600@the-peak.ca
SUMMARY:Kombucha Making Workshop at O5
DESCRIPTION:5–6 p.m. | O5 Tea | $15. \nI’m gonna be really real with you guys: I have no clue what kombucha actually is. I feel like it’s some kind of beverage thing? Anyway\, if you do know what it is\, and are interested in making some of your own\, this event is for you! \nWant an event featured in this calendar? Email arts@the-peak.ca for details.
URL:https://the-peak.ca/event/kombucha-making-workshop-at-o5/
LOCATION:O5 Tea
END:VEVENT
BEGIN:VEVENT
DTSTART;TZID=America/Vancouver:20180724T090000
DTEND;TZID=America/Vancouver:20180724T120000
DTSTAMP:20260419T182005
CREATED:20180720T204933Z
LAST-MODIFIED:20180720T204933Z
UID:105595-1532422800-1532433600@the-peak.ca
SUMMARY:Spindle Whorl Carving at SFU
DESCRIPTION:9 a.m.–12 p.m. | SFU Burnaby at AQ 2002 | FREE. \nIf you read this week’s article on Carman McKay\, you know that he’s been working on a spindle whorl\, a tool used to spin wool. This is the last day you can catch him at it\, so swing by and see the magic of carving. \nWant an event featured in this calendar? Email arts@the-peak.ca for details.
URL:https://the-peak.ca/event/spindle-whorl-carving-at-sfu/
LOCATION:SFU Burnaby
ATTACH;FMTTYPE=image/png:https://the-peak.ca/wp-content/uploads/2018/07/spindle.png
END:VEVENT
BEGIN:VEVENT
DTSTART;TZID=America/Vancouver:20180723T190000
DTEND;TZID=America/Vancouver:20180723T210000
DTSTAMP:20260419T182005
CREATED:20180713T230752Z
LAST-MODIFIED:20180713T234200Z
UID:105434-1532372400-1532379600@the-peak.ca
SUMMARY:Grease South Surrey Smiles Drive-In
DESCRIPTION:Ready to see Grease for the two-billionth time? As part of South Surrey’s weekly drive-ins\, you can stuff up to seven other people into your car and watch a movie. Next week’s movie will be Jumanji: Welcome to the Jungle. \nWant an event featured in this calendar? Email arts@the-peak.ca for details.
URL:https://the-peak.ca/event/grease-south-surrey-smiles-drive-in/
LOCATION:Semiahmoo Park
END:VEVENT
BEGIN:VEVENT
DTSTART;TZID=America/Vancouver:20180722T103000
DTEND;TZID=America/Vancouver:20180722T133000
DTSTAMP:20260419T182005
CREATED:20180713T230544Z
LAST-MODIFIED:20180713T234151Z
UID:105431-1532255400-1532266200@the-peak.ca
SUMMARY:Free Community Fix-It
DESCRIPTION:If you want to fix up clothes that may have a rip or a missing button\, this event can help. Supplies will be provided\, and instructors will help you master patching\, darning\, and stitching clothes. \nWant an event featured in this calendar? Email arts@the-peak.ca for details.
URL:https://the-peak.ca/event/free-community-fix-it/
LOCATION:Vancouver Public Library Mount Pleasant Branch
END:VEVENT
BEGIN:VEVENT
DTSTART;TZID=America/Vancouver:20180721T100000
DTEND;TZID=America/Vancouver:20180721T203000
DTSTAMP:20260419T182005
CREATED:20180713T230406Z
LAST-MODIFIED:20180713T234140Z
UID:105428-1532167200-1532205000@the-peak.ca
SUMMARY:African Descent Festival
DESCRIPTION:Celebrate a variety of African cultures at this event that boasts musicians such as Eddy Kenzo and Emmanuel Jal. This event will also be on July 22\, and there will be many vendors and musicians on both days. \nWant an event featured in this calendar? Email arts@the-peak.ca for details.
URL:https://the-peak.ca/event/african-descent-festival/
LOCATION:Thornton Park
END:VEVENT
BEGIN:VEVENT
DTSTART;TZID=America/Vancouver:20180720T200000
DTEND;TZID=America/Vancouver:20180721T000000
DTSTAMP:20260419T182005
CREATED:20180713T225957Z
LAST-MODIFIED:20180713T234125Z
UID:105425-1532116800-1532131200@the-peak.ca
SUMMARY:Queer Prom 2018: Flowers & Unicorns
DESCRIPTION:Queer Prom returns to the Roundhouse and this year’s theme is Flowers and Unicorns. LGBTQ+ and allied youth are welcome\, but you must be between the age of 14 and 25. There will be a photo booth\, snacks\, and mocktails. \nWant an event featured in this calendar? Email arts@the-peak.ca for details.
URL:https://the-peak.ca/event/queer-prom-2018-flowers-unicorns/
LOCATION:Roundhouse Community Arts and Recreation Centre
END:VEVENT
BEGIN:VEVENT
DTSTART;TZID=America/Vancouver:20180719T160000
DTEND;TZID=America/Vancouver:20180719T200000
DTSTAMP:20260419T182005
CREATED:20180713T224421Z
LAST-MODIFIED:20180713T233946Z
UID:105418-1532016000-1532030400@the-peak.ca
SUMMARY:FASStastic Luau Party
DESCRIPTION:Come out and party with other FASS students at this themed social event. Food and a live DJ will be included in your ticket price. It looks like it’ll be a great opportunity to relax before finals! \nWant an event featured in this calendar? Email arts@the-peak.ca for details.
URL:https://the-peak.ca/event/105418/
LOCATION:Club Ilia
END:VEVENT
BEGIN:VEVENT
DTSTART;TZID=America/Vancouver:20180718T170000
DTEND;TZID=America/Vancouver:20180718T190000
DTSTAMP:20260419T182005
CREATED:20180718T191905Z
LAST-MODIFIED:20180718T191905Z
UID:105517-1531933200-1531940400@the-peak.ca
SUMMARY:Open Forum: International Decade for People of African Descent
DESCRIPTION:Open forum and dialogue to raise awareness and recognition of the International Decade for People of African Descent. \nThe African Students Association\, The Students of Caribbean and African Ancestry\, the Voice of Ituri and the African Descent Society BC: \nINVITE ALL TO COME OUT TO THE FORUM ON THE INTERNATIONAL DECADE FOR PEOPLE OF AFRICAN DESCENT \nThe Panel includes Hon Justice Donald Mcleod of the Ontario High Court\, Dr. June Francis\, Dahaboo Mohamed\, Baba Luku\, Julialynne Walker\, Emmanuel Jal\, Eddy Kenzo among others to discuss what the International Decade of African Descent means to Canada. \nThis will be held at 500 Granville Street at the Segal Graduate School of Business Room 1200. This is an important conversation as we explore what it means for Canada to recognize the UN International Decade for People of African Descent. As highlighted by PM Justin Trudeau\, it is important that public institutions take the requisite steps to recognize and to acknowledge the contributions to Canada and the specific needs of people of African Descent providing a framework for recognition\, justice\, development to fight racism\, discrimination and the ongoing inequalities that Canadians of African Descent face. In recognizing the Decade\, the government commits to a better future for Black Canadians. How do public institutions of the government act in support of this declaration? \nVenue: SFU Harbour Centre\nTime: 5pm to 7pm \n(submitted by SFU SOCA)
URL:https://the-peak.ca/event/open-forum-international-decade-for-people-of-african-descent/
LOCATION:SFU Harbour Centre
END:VEVENT
BEGIN:VEVENT
DTSTART;TZID=America/Vancouver:20180718T120000
DTEND;TZID=America/Vancouver:20180718T160000
DTSTAMP:20260419T182005
CREATED:20180713T213004Z
LAST-MODIFIED:20180713T233929Z
UID:105411-1531915200-1531929600@the-peak.ca
SUMMARY:SFU Chill n’ Grill
DESCRIPTION:The Pursuit of Happiness club will be hosting this event that will include free drinks\, games\, corn-on-the-cob\, Japanese-style hot dogs\, and a DIY ice cream station. The club hopes to increase awareness about mental and physical health. \nWant an event featured in this calendar? Email arts@the-peak.ca for details.
URL:https://the-peak.ca/event/sfu-chill-n-grill/
LOCATION:SFU Burnaby
END:VEVENT
BEGIN:VEVENT
DTSTART;TZID=America/Vancouver:20180717T190000
DTEND;TZID=America/Vancouver:20180717T210000
DTSTAMP:20260419T182005
CREATED:20180713T211109Z
LAST-MODIFIED:20180713T233817Z
UID:105406-1531854000-1531861200@the-peak.ca
SUMMARY:I've Been Meaning To Tell You Book Launch with David Chariandy
DESCRIPTION:If you read about David Chariandy in our interview last week\, this is your chance to meet him. He will be launching his most recent book I’ve Been Meaning To Tell You\, and there will be beer and wine for sale. \nWant an event featured in this calendar? Email arts@the-peak.ca for details.
URL:https://the-peak.ca/event/ive-been-meaning-to-tell-you-book-launch-with-david-chariandy/
LOCATION:Massy Books\, 229 East Georgia Street\, Vancouver\, BC\, V6A1Z6\, Canada
ATTACH;FMTTYPE=image/jpeg:https://the-peak.ca/wp-content/uploads/2018/07/36808764_1830856246937323_8021991099146960896_n.jpg
END:VEVENT
END:VCALENDAR